BEGIN:VCALENDAR
VERSION:2.0
PRODID:-//Tukios.com/
BEGIN:VEVENT
UID:6fe022ae-f6a5-4963-a736-9e229780f3a4@www.tillmanfuneralhome.com
DTSTAMP:20260424T191257Z
DTSTART:20260501T160000Z
DTEND:20260501T170000Z
SUMMARY:Graveside Service
DESCRIPTION:
URL:https://www.tillmanfuneralhome.com/obituaries/surama-oxamendi
LOCATION:Our Lady Queen of Peace Catholic Cemetery 10941 Southern Blvd  
	Royal Palm Beach FL 33411
GEO:26.6830132;-80.216097
END:VEVENT
END:VCALENDAR