BEGIN:VCALENDAR
VERSION:2.0
PRODID:-//Tukios.com/
BEGIN:VEVENT
UID:01338a2d-4f60-48bc-958d-44b6fa701ecf@www.tillmanfuneralhome.com
DTSTAMP:20260423T221740Z
DTSTART:20260523T170000Z
DTEND:20260523T180000Z
SUMMARY:Mass
DESCRIPTION:
URL:https://www.tillmanfuneralhome.com/obituaries/delia-sartori
LOCATION:Chapel of St Luke Catholic Church 2892 South Congress Avenue  
	Palm Springs FL 33461
GEO:26.6327184;-80.0878199
END:VEVENT
END:VCALENDAR